BEGIN:VCALENDAR
VERSION:2.0
PRODID:-//Engleside Baptist Church - ECPv6.15.20//NONSGML v1.0//EN
CALSCALE:GREGORIAN
METHOD:PUBLISH
X-ORIGINAL-URL:https://englesidebaptist.org
X-WR-CALDESC:Events for Engleside Baptist Church
REFRESH-INTERVAL;VALUE=DURATION:PT1H
X-Robots-Tag:noindex
X-PUBLISHED-TTL:PT1H
BEGIN:VTIMEZONE
TZID:America/New_York
BEGIN:DAYLIGHT
TZOFFSETFROM:-0500
TZOFFSETTO:-0400
TZNAME:EDT
DTSTART:20220313T070000
END:DAYLIGHT
BEGIN:STANDARD
TZOFFSETFROM:-0400
TZOFFSETTO:-0500
TZNAME:EST
DTSTART:20221106T060000
END:STANDARD
BEGIN:DAYLIGHT
TZOFFSETFROM:-0500
TZOFFSETTO:-0400
TZNAME:EDT
DTSTART:20230312T070000
END:DAYLIGHT
BEGIN:STANDARD
TZOFFSETFROM:-0400
TZOFFSETTO:-0500
TZNAME:EST
DTSTART:20231105T060000
END:STANDARD
BEGIN:DAYLIGHT
TZOFFSETFROM:-0500
TZOFFSETTO:-0400
TZNAME:EDT
DTSTART:20240310T070000
END:DAYLIGHT
BEGIN:STANDARD
TZOFFSETFROM:-0400
TZOFFSETTO:-0500
TZNAME:EST
DTSTART:20241103T060000
END:STANDARD
BEGIN:DAYLIGHT
TZOFFSETFROM:-0500
TZOFFSETTO:-0400
TZNAME:EDT
DTSTART:20250309T070000
END:DAYLIGHT
BEGIN:STANDARD
TZOFFSETFROM:-0400
TZOFFSETTO:-0500
TZNAME:EST
DTSTART:20251102T060000
END:STANDARD
END:VTIMEZONE
BEGIN:VEVENT
DTSTART;TZID=America/New_York:20240404T093000
DTEND;TZID=America/New_York:20240404T143000
DTSTAMP:20260422T050710
CREATED:20240129T153719Z
LAST-MODIFIED:20240129T153719Z
UID:10002246-1712223000-1712241000@englesidebaptist.org
SUMMARY:Prime Timers Retreat @ Rapidan
DESCRIPTION:Join our Prime Timers at Rapidan Baptist Camp for a retreat on Thursday\, April 4th. Come enjoy a day of food\, fun\, and fellowship with friends as you sit under the teaching of God’s Word. Our speaker this spring is Ed Dunlop.
URL:https://englesidebaptist.org/event/prime-timers-retreat-rapidan-2/
LOCATION:Rapidan Baptist Camp\, 559 Baptist Camp Drive\, Rochelle\, VA\, 22738\, United States
CATEGORIES:Prime Timers Ministry
ATTACH;FMTTYPE=image/jpeg:https://englesidebaptist.org/wp-content/uploads/2021/05/rapidan-featured-image-1024x576-1.jpg
END:VEVENT
BEGIN:VEVENT
DTSTART;TZID=America/New_York:20240125T180000
DTEND;TZID=America/New_York:20240127T120000
DTSTAMP:20260422T050710
CREATED:20240102T144937Z
LAST-MODIFIED:20240102T144937Z
UID:10002221-1706205600-1706356800@englesidebaptist.org
SUMMARY:Youth Group Ski Retreat
DESCRIPTION:Teens are invited to the Ski Retreat at Rapidan Baptist Camp on Thursday\, January 25th through Saturday\, January 27th. The cost is $120 which includes the lift ticket and ski rental. Please register online at https://www.camprapidan.com/. Also please let Pastor Trevin know of your plans to attend.
URL:https://englesidebaptist.org/event/youth-group-ski-retreat/
LOCATION:Rapidan Baptist Camp\, 559 Baptist Camp Drive\, Rochelle\, VA\, 22738\, United States
CATEGORIES:Student Ministry
ATTACH;FMTTYPE=image/jpeg:https://englesidebaptist.org/wp-content/uploads/2024/01/youth-ski-trip.jpg
END:VEVENT
BEGIN:VEVENT
DTSTART;TZID=America/New_York:20231010T093000
DTEND;TZID=America/New_York:20231010T143000
DTSTAMP:20260422T050710
CREATED:20230814T154540Z
LAST-MODIFIED:20230814T154540Z
UID:10001882-1696930200-1696948200@englesidebaptist.org
SUMMARY:Prime Timers' Retreat @ Rapidan
DESCRIPTION:Join our Prime Timers at Rapidan Baptist Camp for a retreat on Tuesday\, October 10th. Come enjoy a day of food\, fun\, and fellowship with friends as you sit under the teaching of God’s Word. Our speaker this fall is Glen Shank\, and the cost is $25.
URL:https://englesidebaptist.org/event/prime-timers-retreat-rapidan/
LOCATION:Rapidan Baptist Camp\, 559 Baptist Camp Drive\, Rochelle\, VA\, 22738\, United States
CATEGORIES:Prime Timers Ministry
ATTACH;FMTTYPE=image/jpeg:https://englesidebaptist.org/wp-content/uploads/2021/05/rapidan-featured-image-1024x576-1.jpg
END:VEVENT
BEGIN:VEVENT
DTSTART;TZID=America/New_York:20230929T173000
DTEND;TZID=America/New_York:20230930T153000
DTSTAMP:20260422T050710
CREATED:20230814T142144Z
LAST-MODIFIED:20230814T142144Z
UID:10001878-1696008600-1696087800@englesidebaptist.org
SUMMARY:Men's Retreat @ Rapidan
DESCRIPTION:Join us for shoulder-to-shoulder fellowship and fun as we spend time in the Word of God and enjoy camaraderie with other Christians.
URL:https://englesidebaptist.org/event/mens-retreat-rapidan/
LOCATION:Rapidan Baptist Camp\, 559 Baptist Camp Drive\, Rochelle\, VA\, 22738\, United States
CATEGORIES:Men's Ministry
ATTACH;FMTTYPE=image/jpeg:https://englesidebaptist.org/wp-content/uploads/2023/08/MensRetreat-scaled.jpeg
END:VEVENT
BEGIN:VEVENT
DTSTART;TZID=America/New_York:20230923T090000
DTEND;TZID=America/New_York:20230923T153000
DTSTAMP:20260422T050710
CREATED:20230814T141844Z
LAST-MODIFIED:20230814T141844Z
UID:10001877-1695459600-1695483000@englesidebaptist.org
SUMMARY:Ladies' Retreat @ Rapidan
DESCRIPTION:Ladies’ Retreat is a wonderful time for fellowship and fun as we sit under the teaching of God’s Word. Our speaker is Claudia Barba. The retreat is for ladies ages 16 and older.
URL:https://englesidebaptist.org/event/ladies-retreat-rapidan/
LOCATION:Rapidan Baptist Camp\, 559 Baptist Camp Drive\, Rochelle\, VA\, 22738\, United States
CATEGORIES:Women's Ministry
ATTACH;FMTTYPE=image/jpeg:https://englesidebaptist.org/wp-content/uploads/2023/08/LadiesRetreat.23-scaled.jpeg
END:VEVENT
BEGIN:VEVENT
DTSTART;TZID=America/New_York:20230731T080000
DTEND;TZID=America/New_York:20230804T133000
DTSTAMP:20260422T050710
CREATED:20230227T161410Z
LAST-MODIFIED:20230227T161410Z
UID:10001326-1690790400-1691155800@englesidebaptist.org
SUMMARY:Junior Camp @ Rapidan
DESCRIPTION:Kids ages 8-12 are invited for a fun-filled week at Rapidan Baptist Camp full of games\, activities\, and spiritual nourishment from God’s Word. Register online or at the church office.
URL:https://englesidebaptist.org/event/junior-camp-rapidan/
LOCATION:Rapidan Baptist Camp\, 559 Baptist Camp Drive\, Rochelle\, VA\, 22738\, United States
ATTACH;FMTTYPE=image/jpeg:https://englesidebaptist.org/wp-content/uploads/2021/05/rapidan-featured-image-1024x576-1.jpg
END:VEVENT
BEGIN:VEVENT
DTSTART;TZID=America/New_York:20230626T100000
DTEND;TZID=America/New_York:20230630T133000
DTSTAMP:20260422T050710
CREATED:20230109T165118Z
LAST-MODIFIED:20230227T161446Z
UID:10000844-1687773600-1688131800@englesidebaptist.org
SUMMARY:Teen Camp @ Rapidan
DESCRIPTION:Teens are invited for a fun-filled week at Rapidan Baptist Camp full of games\, activities\, and spiritual nourishment from God’s Word. Register online or at the church office.
URL:https://englesidebaptist.org/event/teen-camp-rapidan/
LOCATION:Rapidan Baptist Camp\, 559 Baptist Camp Drive\, Rochelle\, VA\, 22738\, United States
ATTACH;FMTTYPE=image/jpeg:https://englesidebaptist.org/wp-content/uploads/2019/06/rapidan-featured-image.jpg
END:VEVENT
BEGIN:VEVENT
DTSTART;TZID=America/New_York:20230428T173000
DTEND;TZID=America/New_York:20230429T153000
DTSTAMP:20260422T050710
CREATED:20230403T140732Z
LAST-MODIFIED:20230403T140732Z
UID:10001346-1682703000-1682782200@englesidebaptist.org
SUMMARY:Father and Son Retreat @ Rapidan
DESCRIPTION:Enjoy quality father-son time in the quietness of camp\, away from the busyness and distractions of life\, as you learn from Scripture together and bond over food and fun!
URL:https://englesidebaptist.org/event/father-and-son-retreat-rapidan/
LOCATION:Rapidan Baptist Camp\, 559 Baptist Camp Drive\, Rochelle\, VA\, 22738\, United States
ATTACH;FMTTYPE=image/jpeg:https://englesidebaptist.org/wp-content/uploads/2021/05/rapidan-featured-image-1024x576-1.jpg
END:VEVENT
BEGIN:VEVENT
DTSTART;TZID=America/New_York:20230422T090000
DTEND;TZID=America/New_York:20230422T153000
DTSTAMP:20260422T050710
CREATED:20230109T164029Z
LAST-MODIFIED:20230109T164029Z
UID:10000841-1682154000-1682177400@englesidebaptist.org
SUMMARY:Ladies Retreat
DESCRIPTION:Ladies’ Retreat is a wonderful time for fellowship and fun as we sit under the teaching of God’s Word.
URL:https://englesidebaptist.org/event/ladies-retreat/
LOCATION:Rapidan Baptist Camp\, 559 Baptist Camp Drive\, Rochelle\, VA\, 22738\, United States
ATTACH;FMTTYPE=image/jpeg:https://englesidebaptist.org/wp-content/uploads/2019/06/rapidan-featured-image.jpg
END:VEVENT
BEGIN:VEVENT
DTSTART;TZID=America/New_York:20230404T093000
DTEND;TZID=America/New_York:20230404T143000
DTSTAMP:20260422T050710
CREATED:20230109T163707Z
LAST-MODIFIED:20230109T163708Z
UID:10001217-1680600600-1680618600@englesidebaptist.org
SUMMARY:Prime Timers Retreat
DESCRIPTION:Enjoy a day of food\, fun\, and fellowship at camp as you sit under the teaching of God’s Word. The speaker will be Greg Murray.
URL:https://englesidebaptist.org/event/prime-timers-retreat/
LOCATION:Rapidan Baptist Camp\, 559 Baptist Camp Drive\, Rochelle\, VA\, 22738\, United States
ATTACH;FMTTYPE=image/jpeg:https://englesidebaptist.org/wp-content/uploads/2019/06/rapidan-featured-image.jpg
END:VEVENT
END:VCALENDAR