BEGIN:VCALENDAR
VERSION:2.0
PRODID:-//Engleside Baptist Church - ECPv6.15.20//NONSGML v1.0//EN
CALSCALE:GREGORIAN
METHOD:PUBLISH
X-WR-CALNAME:Engleside Baptist Church
X-ORIGINAL-URL:https://englesidebaptist.org
X-WR-CALDESC:Events for Engleside Baptist Church
REFRESH-INTERVAL;VALUE=DURATION:PT1H
X-Robots-Tag:noindex
X-PUBLISHED-TTL:PT1H
BEGIN:VTIMEZONE
TZID:America/New_York
BEGIN:DAYLIGHT
TZOFFSETFROM:-0500
TZOFFSETTO:-0400
TZNAME:EDT
DTSTART:20230312T070000
END:DAYLIGHT
BEGIN:STANDARD
TZOFFSETFROM:-0400
TZOFFSETTO:-0500
TZNAME:EST
DTSTART:20231105T060000
END:STANDARD
BEGIN:DAYLIGHT
TZOFFSETFROM:-0500
TZOFFSETTO:-0400
TZNAME:EDT
DTSTART:20240310T070000
END:DAYLIGHT
BEGIN:STANDARD
TZOFFSETFROM:-0400
TZOFFSETTO:-0500
TZNAME:EST
DTSTART:20241103T060000
END:STANDARD
BEGIN:DAYLIGHT
TZOFFSETFROM:-0500
TZOFFSETTO:-0400
TZNAME:EDT
DTSTART:20250309T070000
END:DAYLIGHT
BEGIN:STANDARD
TZOFFSETFROM:-0400
TZOFFSETTO:-0500
TZNAME:EST
DTSTART:20251102T060000
END:STANDARD
END:VTIMEZONE
BEGIN:VEVENT
DTSTART;TZID=America/New_York:20240426T173000
DTEND;TZID=America/New_York:20240427T153000
DTSTAMP:20260422T050559
CREATED:20240129T154457Z
LAST-MODIFIED:20240129T154457Z
UID:243447-1714152600-1714231800@englesidebaptist.org
SUMMARY:Father and Son Retreat @ Rapidan
DESCRIPTION:Enjoy quality father-son time in the quietness of camp\, away from the busyness and distractions of life\, as you learn from Scripture together and bond over food and fun!
URL:https://englesidebaptist.org/event/father-and-son-retreat-rapidan-2/
LOCATION:Rapidan Baptist Camp\, 559 Baptist Camp Drive\, Rochelle\, VA\, 22738\, United States
CATEGORIES:Men's Ministry
ATTACH;FMTTYPE=image/jpeg:https://englesidebaptist.org/wp-content/uploads/2021/05/rapidan-featured-image-1024x576-1.jpg
END:VEVENT
END:VCALENDAR