BEGIN:VCALENDAR
VERSION:2.0
PRODID:-//Engleside Baptist Church - ECPv6.15.20//NONSGML v1.0//EN
CALSCALE:GREGORIAN
METHOD:PUBLISH
X-WR-CALNAME:Engleside Baptist Church
X-ORIGINAL-URL:https://englesidebaptist.org
X-WR-CALDESC:Events for Engleside Baptist Church
REFRESH-INTERVAL;VALUE=DURATION:PT1H
X-Robots-Tag:noindex
X-PUBLISHED-TTL:PT1H
BEGIN:VTIMEZONE
TZID:America/New_York
BEGIN:DAYLIGHT
TZOFFSETFROM:-0500
TZOFFSETTO:-0400
TZNAME:EDT
DTSTART:20230312T070000
END:DAYLIGHT
BEGIN:STANDARD
TZOFFSETFROM:-0400
TZOFFSETTO:-0500
TZNAME:EST
DTSTART:20231105T060000
END:STANDARD
BEGIN:DAYLIGHT
TZOFFSETFROM:-0500
TZOFFSETTO:-0400
TZNAME:EDT
DTSTART:20240310T070000
END:DAYLIGHT
BEGIN:STANDARD
TZOFFSETFROM:-0400
TZOFFSETTO:-0500
TZNAME:EST
DTSTART:20241103T060000
END:STANDARD
BEGIN:DAYLIGHT
TZOFFSETFROM:-0500
TZOFFSETTO:-0400
TZNAME:EDT
DTSTART:20250309T070000
END:DAYLIGHT
BEGIN:STANDARD
TZOFFSETFROM:-0400
TZOFFSETTO:-0500
TZNAME:EST
DTSTART:20251102T060000
END:STANDARD
END:VTIMEZONE
BEGIN:VEVENT
DTSTART;TZID=America/New_York:20240114T121500
DTEND;TZID=America/New_York:20240114T130000
DTSTAMP:20260423T032905
CREATED:20221114T155349Z
LAST-MODIFIED:20241008T165234Z
UID:10001121-1705234500-1705237200@englesidebaptist.org
SUMMARY:Church Family Hour
DESCRIPTION:Our church family hour provides an opportunity to further discuss church life\, receive updates from missionaries\, and be challenged from God’s Word as we grow to be more like Christ.
URL:https://englesidebaptist.org/event/church-family-hour-14/2024-01-14/
ATTACH;FMTTYPE=image/jpeg:https://englesidebaptist.org/wp-content/uploads/2022/11/Church-1.jpg
END:VEVENT
END:VCALENDAR