BEGIN:VCALENDAR
VERSION:2.0
PRODID:-//Engleside Baptist Church - ECPv6.15.20//NONSGML v1.0//EN
CALSCALE:GREGORIAN
METHOD:PUBLISH
X-WR-CALNAME:Engleside Baptist Church
X-ORIGINAL-URL:https://englesidebaptist.org
X-WR-CALDESC:Events for Engleside Baptist Church
REFRESH-INTERVAL;VALUE=DURATION:PT1H
X-Robots-Tag:noindex
X-PUBLISHED-TTL:PT1H
BEGIN:VTIMEZONE
TZID:America/New_York
BEGIN:DAYLIGHT
TZOFFSETFROM:-0500
TZOFFSETTO:-0400
TZNAME:EDT
DTSTART:20210314T070000
END:DAYLIGHT
BEGIN:STANDARD
TZOFFSETFROM:-0400
TZOFFSETTO:-0500
TZNAME:EST
DTSTART:20211107T060000
END:STANDARD
BEGIN:DAYLIGHT
TZOFFSETFROM:-0500
TZOFFSETTO:-0400
TZNAME:EDT
DTSTART:20220313T070000
END:DAYLIGHT
BEGIN:STANDARD
TZOFFSETFROM:-0400
TZOFFSETTO:-0500
TZNAME:EST
DTSTART:20221106T060000
END:STANDARD
BEGIN:DAYLIGHT
TZOFFSETFROM:-0500
TZOFFSETTO:-0400
TZNAME:EDT
DTSTART:20230312T070000
END:DAYLIGHT
BEGIN:STANDARD
TZOFFSETFROM:-0400
TZOFFSETTO:-0500
TZNAME:EST
DTSTART:20231105T060000
END:STANDARD
END:VTIMEZONE
BEGIN:VEVENT
DTSTART;TZID=America/New_York:20220330T190000
DTEND;TZID=America/New_York:20220330T203000
DTSTAMP:20260420T092349
CREATED:20210909T124248Z
LAST-MODIFIED:20210909T124249Z
UID:10000886-1648666800-1648672200@englesidebaptist.org
SUMMARY:Awana
DESCRIPTION:Wednesday nights from 7-8:30pm are packed with Bible memory\, games\, and a lesson from God’s Word.  Join the fun and be part of growing as a follower of Jesus Christ.
URL:https://englesidebaptist.org/event/awana/2022-03-30/
ATTACH;FMTTYPE=image/gif:https://englesidebaptist.org/wp-content/uploads/2021/07/300_awana-logo-color.gif
END:VEVENT
END:VCALENDAR