BEGIN:VCALENDAR
VERSION:2.0
PRODID:-//Engleside Baptist Church - ECPv6.15.20//NONSGML v1.0//EN
CALSCALE:GREGORIAN
METHOD:PUBLISH
X-WR-CALNAME:Engleside Baptist Church
X-ORIGINAL-URL:https://englesidebaptist.org
X-WR-CALDESC:Events for Engleside Baptist Church
REFRESH-INTERVAL;VALUE=DURATION:PT1H
X-Robots-Tag:noindex
X-PUBLISHED-TTL:PT1H
BEGIN:VTIMEZONE
TZID:America/New_York
BEGIN:DAYLIGHT
TZOFFSETFROM:-0500
TZOFFSETTO:-0400
TZNAME:EDT
DTSTART:20220313T070000
END:DAYLIGHT
BEGIN:STANDARD
TZOFFSETFROM:-0400
TZOFFSETTO:-0500
TZNAME:EST
DTSTART:20221106T060000
END:STANDARD
BEGIN:DAYLIGHT
TZOFFSETFROM:-0500
TZOFFSETTO:-0400
TZNAME:EDT
DTSTART:20230312T070000
END:DAYLIGHT
BEGIN:STANDARD
TZOFFSETFROM:-0400
TZOFFSETTO:-0500
TZNAME:EST
DTSTART:20231105T060000
END:STANDARD
BEGIN:DAYLIGHT
TZOFFSETFROM:-0500
TZOFFSETTO:-0400
TZNAME:EDT
DTSTART:20240310T070000
END:DAYLIGHT
BEGIN:STANDARD
TZOFFSETFROM:-0400
TZOFFSETTO:-0500
TZNAME:EST
DTSTART:20241103T060000
END:STANDARD
END:VTIMEZONE
BEGIN:VEVENT
DTSTART;TZID=America/New_York:20230212T103000
DTEND;TZID=America/New_York:20230212T114500
DTSTAMP:20260423T020518
CREATED:20230105T145418Z
LAST-MODIFIED:20230119T210804Z
UID:10001201-1676197800-1676202300@englesidebaptist.org
SUMMARY:AM Worship Service
DESCRIPTION:Join us as we worship God together through singing\, fellowshiping\, and hearing from God’s Word. Pastor Ben will be preaching through a series on the book of Matthew.
URL:https://englesidebaptist.org/event/242720/2023-02-12/
CATEGORIES:Worship Service
ATTACH;FMTTYPE=image/jpeg:https://englesidebaptist.org/wp-content/uploads/2023/01/thumbnail_Matthew-Series.jpg
END:VEVENT
END:VCALENDAR